BEGIN:VCALENDAR
VERSION:2.0
PRODID:-//Eagle Creek Golf Course - LaGrange, KY - ECPv6.15.20//NONSGML v1.0//EN
CALSCALE:GREGORIAN
METHOD:PUBLISH
X-WR-CALNAME:Eagle Creek Golf Course - LaGrange, KY
X-ORIGINAL-URL:https://eaglecreekgolfky.com
X-WR-CALDESC:Events for Eagle Creek Golf Course - LaGrange, KY
REFRESH-INTERVAL;VALUE=DURATION:PT1H
X-Robots-Tag:noindex
X-PUBLISHED-TTL:PT1H
BEGIN:VTIMEZONE
TZID:UTC
BEGIN:STANDARD
TZOFFSETFROM:+0000
TZOFFSETTO:+0000
TZNAME:UTC
DTSTART:20250101T000000
END:STANDARD
END:VTIMEZONE
BEGIN:VEVENT
DTSTART;TZID=UTC:20260505T180000
DTEND;TZID=UTC:20260505T203000
DTSTAMP:20260421T144458
CREATED:20260101T175906Z
LAST-MODIFIED:20260101T181732Z
UID:10000034-1778004000-1778013000@eaglecreekgolfky.com
SUMMARY:9-Hole Ladies League
DESCRIPTION:
URL:https://eaglecreekgolfky.com/event/ladies-9-hole-league/2026-05-05/
CATEGORIES:Leagues
END:VEVENT
BEGIN:VEVENT
DTSTART;TZID=UTC:20260512T180000
DTEND;TZID=UTC:20260512T203000
DTSTAMP:20260421T144458
CREATED:20260101T175906Z
LAST-MODIFIED:20260101T181732Z
UID:10000035-1778608800-1778617800@eaglecreekgolfky.com
SUMMARY:9-Hole Ladies League
DESCRIPTION:
URL:https://eaglecreekgolfky.com/event/ladies-9-hole-league/2026-05-12/
CATEGORIES:Leagues
END:VEVENT
BEGIN:VEVENT
DTSTART;TZID=UTC:20260519T180000
DTEND;TZID=UTC:20260519T203000
DTSTAMP:20260421T144458
CREATED:20260101T175906Z
LAST-MODIFIED:20260101T181732Z
UID:10000036-1779213600-1779222600@eaglecreekgolfky.com
SUMMARY:9-Hole Ladies League
DESCRIPTION:
URL:https://eaglecreekgolfky.com/event/ladies-9-hole-league/2026-05-19/
CATEGORIES:Leagues
END:VEVENT
BEGIN:VEVENT
DTSTART;TZID=UTC:20260526T180000
DTEND;TZID=UTC:20260526T203000
DTSTAMP:20260421T144458
CREATED:20260101T175906Z
LAST-MODIFIED:20260101T181732Z
UID:10000037-1779818400-1779827400@eaglecreekgolfky.com
SUMMARY:9-Hole Ladies League
DESCRIPTION:
URL:https://eaglecreekgolfky.com/event/ladies-9-hole-league/2026-05-26/
CATEGORIES:Leagues
END:VEVENT
BEGIN:VEVENT
DTSTART;TZID=UTC:20260602T180000
DTEND;TZID=UTC:20260602T203000
DTSTAMP:20260421T144458
CREATED:20260101T175906Z
LAST-MODIFIED:20260101T181732Z
UID:10000038-1780423200-1780432200@eaglecreekgolfky.com
SUMMARY:9-Hole Ladies League
DESCRIPTION:
URL:https://eaglecreekgolfky.com/event/ladies-9-hole-league/2026-06-02/
CATEGORIES:Leagues
END:VEVENT
BEGIN:VEVENT
DTSTART;TZID=UTC:20260609T180000
DTEND;TZID=UTC:20260609T203000
DTSTAMP:20260421T144458
CREATED:20260101T175906Z
LAST-MODIFIED:20260101T181732Z
UID:10000039-1781028000-1781037000@eaglecreekgolfky.com
SUMMARY:9-Hole Ladies League
DESCRIPTION:
URL:https://eaglecreekgolfky.com/event/ladies-9-hole-league/2026-06-09/
CATEGORIES:Leagues
END:VEVENT
BEGIN:VEVENT
DTSTART;TZID=UTC:20260616T180000
DTEND;TZID=UTC:20260616T203000
DTSTAMP:20260421T144458
CREATED:20260101T175906Z
LAST-MODIFIED:20260101T181732Z
UID:10000040-1781632800-1781641800@eaglecreekgolfky.com
SUMMARY:9-Hole Ladies League
DESCRIPTION:
URL:https://eaglecreekgolfky.com/event/ladies-9-hole-league/2026-06-16/
CATEGORIES:Leagues
END:VEVENT
BEGIN:VEVENT
DTSTART;TZID=UTC:20260623T180000
DTEND;TZID=UTC:20260623T203000
DTSTAMP:20260421T144458
CREATED:20260101T175906Z
LAST-MODIFIED:20260101T181732Z
UID:10000041-1782237600-1782246600@eaglecreekgolfky.com
SUMMARY:9-Hole Ladies League
DESCRIPTION:
URL:https://eaglecreekgolfky.com/event/ladies-9-hole-league/2026-06-23/
CATEGORIES:Leagues
END:VEVENT
BEGIN:VEVENT
DTSTART;TZID=UTC:20260630T180000
DTEND;TZID=UTC:20260630T203000
DTSTAMP:20260421T144458
CREATED:20260101T175906Z
LAST-MODIFIED:20260101T181732Z
UID:10000042-1782842400-1782851400@eaglecreekgolfky.com
SUMMARY:9-Hole Ladies League
DESCRIPTION:
URL:https://eaglecreekgolfky.com/event/ladies-9-hole-league/2026-06-30/
CATEGORIES:Leagues
END:VEVENT
BEGIN:VEVENT
DTSTART;TZID=UTC:20260707T180000
DTEND;TZID=UTC:20260707T203000
DTSTAMP:20260421T144458
CREATED:20260101T175906Z
LAST-MODIFIED:20260101T181732Z
UID:10000043-1783447200-1783456200@eaglecreekgolfky.com
SUMMARY:9-Hole Ladies League
DESCRIPTION:
URL:https://eaglecreekgolfky.com/event/ladies-9-hole-league/2026-07-07/
CATEGORIES:Leagues
END:VEVENT
BEGIN:VEVENT
DTSTART;TZID=UTC:20260714T180000
DTEND;TZID=UTC:20260714T203000
DTSTAMP:20260421T144458
CREATED:20260101T175906Z
LAST-MODIFIED:20260101T181732Z
UID:10000044-1784052000-1784061000@eaglecreekgolfky.com
SUMMARY:9-Hole Ladies League
DESCRIPTION:
URL:https://eaglecreekgolfky.com/event/ladies-9-hole-league/2026-07-14/
CATEGORIES:Leagues
END:VEVENT
BEGIN:VEVENT
DTSTART;TZID=UTC:20260721T180000
DTEND;TZID=UTC:20260721T203000
DTSTAMP:20260421T144458
CREATED:20260101T175906Z
LAST-MODIFIED:20260101T181732Z
UID:10000045-1784656800-1784665800@eaglecreekgolfky.com
SUMMARY:9-Hole Ladies League
DESCRIPTION:
URL:https://eaglecreekgolfky.com/event/ladies-9-hole-league/2026-07-21/
CATEGORIES:Leagues
END:VEVENT
BEGIN:VEVENT
DTSTART;TZID=UTC:20260728T180000
DTEND;TZID=UTC:20260728T203000
DTSTAMP:20260421T144458
CREATED:20260101T175906Z
LAST-MODIFIED:20260101T181732Z
UID:10000046-1785261600-1785270600@eaglecreekgolfky.com
SUMMARY:9-Hole Ladies League
DESCRIPTION:
URL:https://eaglecreekgolfky.com/event/ladies-9-hole-league/2026-07-28/
CATEGORIES:Leagues
END:VEVENT
BEGIN:VEVENT
DTSTART;TZID=UTC:20260804T180000
DTEND;TZID=UTC:20260804T203000
DTSTAMP:20260421T144458
CREATED:20260101T175906Z
LAST-MODIFIED:20260101T181732Z
UID:10000047-1785866400-1785875400@eaglecreekgolfky.com
SUMMARY:9-Hole Ladies League
DESCRIPTION:
URL:https://eaglecreekgolfky.com/event/ladies-9-hole-league/2026-08-04/
CATEGORIES:Leagues
END:VEVENT
BEGIN:VEVENT
DTSTART;TZID=UTC:20260811T180000
DTEND;TZID=UTC:20260811T203000
DTSTAMP:20260421T144458
CREATED:20260101T175906Z
LAST-MODIFIED:20260101T181732Z
UID:10000048-1786471200-1786480200@eaglecreekgolfky.com
SUMMARY:9-Hole Ladies League
DESCRIPTION:
URL:https://eaglecreekgolfky.com/event/ladies-9-hole-league/2026-08-11/
CATEGORIES:Leagues
END:VEVENT
BEGIN:VEVENT
DTSTART;TZID=UTC:20260818T180000
DTEND;TZID=UTC:20260818T203000
DTSTAMP:20260421T144458
CREATED:20260101T175906Z
LAST-MODIFIED:20260101T181732Z
UID:10000049-1787076000-1787085000@eaglecreekgolfky.com
SUMMARY:9-Hole Ladies League
DESCRIPTION:
URL:https://eaglecreekgolfky.com/event/ladies-9-hole-league/2026-08-18/
CATEGORIES:Leagues
END:VEVENT
BEGIN:VEVENT
DTSTART;TZID=UTC:20260825T180000
DTEND;TZID=UTC:20260825T203000
DTSTAMP:20260421T144458
CREATED:20260101T175906Z
LAST-MODIFIED:20260101T181732Z
UID:10000050-1787680800-1787689800@eaglecreekgolfky.com
SUMMARY:9-Hole Ladies League
DESCRIPTION:
URL:https://eaglecreekgolfky.com/event/ladies-9-hole-league/2026-08-25/
CATEGORIES:Leagues
END:VEVENT
BEGIN:VEVENT
DTSTART;TZID=UTC:20260901T180000
DTEND;TZID=UTC:20260901T203000
DTSTAMP:20260421T144458
CREATED:20260101T175906Z
LAST-MODIFIED:20260101T181732Z
UID:10000051-1788285600-1788294600@eaglecreekgolfky.com
SUMMARY:9-Hole Ladies League
DESCRIPTION:
URL:https://eaglecreekgolfky.com/event/ladies-9-hole-league/2026-09-01/
CATEGORIES:Leagues
END:VEVENT
BEGIN:VEVENT
DTSTART;TZID=UTC:20260908T180000
DTEND;TZID=UTC:20260908T203000
DTSTAMP:20260421T144458
CREATED:20260101T175906Z
LAST-MODIFIED:20260101T181732Z
UID:10000052-1788890400-1788899400@eaglecreekgolfky.com
SUMMARY:9-Hole Ladies League
DESCRIPTION:
URL:https://eaglecreekgolfky.com/event/ladies-9-hole-league/2026-09-08/
CATEGORIES:Leagues
END:VEVENT
END:VCALENDAR